BEGIN:VCALENDAR
VERSION:2.0
PRODID:-//SBT - ECPv6.15.11//NONSGML v1.0//EN
CALSCALE:GREGORIAN
METHOD:PUBLISH
X-WR-CALNAME:SBT
X-ORIGINAL-URL:https://htusbt.net
X-WR-CALDESC:Events for SBT
REFRESH-INTERVAL;VALUE=DURATION:PT1H
X-Robots-Tag:noindex
X-PUBLISHED-TTL:PT1H
BEGIN:VTIMEZONE
TZID:UTC
BEGIN:STANDARD
TZOFFSETFROM:+0000
TZOFFSETTO:+0000
TZNAME:UTC
DTSTART:19690101T000000
END:STANDARD
END:VTIMEZONE
BEGIN:VEVENT
DTSTART;TZID=UTC:20220421T163000
DTEND;TZID=UTC:20220421T180000
DTSTAMP:20260423T233855
CREATED:20210309T171728Z
LAST-MODIFIED:20220408T192102Z
UID:22994-1650558600-1650564000@htusbt.net
SUMMARY:Daily Marketing 3
DESCRIPTION:Join us as we kick-off the final installation of our three-part series hosted by the School of Business and Technology! We’ll explore the world of Personal Branding and Marketing with Sania Haq\, Head of Marketing Research at AudienceNet. \nClick here to register and you will receive a Zoom link for the event.
URL:https://htusbt.net/event/daily-marketing-series-2-building-a-brand-everyday-everywhere-by-everyone/
LOCATION:Zoom Panel Discussion
CATEGORIES:Branding,Business,Marketing
ATTACH;FMTTYPE=image/png:https://htusbt.net/wp-content/uploads/2021/03/Marketing-Series-3_QR-Flyer.png
ORGANIZER;CN="School of Business and Technology (SBT)":MAILTO:sbt@htu.edu
END:VEVENT
BEGIN:VEVENT
DTSTART;TZID=UTC:20220208T153000
DTEND;TZID=UTC:20220208T163000
DTSTAMP:20260423T233855
CREATED:20210324T173039Z
LAST-MODIFIED:20220207T155004Z
UID:23177-1644334200-1644337800@htusbt.net
SUMMARY:LinkedIn Makeover
DESCRIPTION:Join us for a LinkedIn Makeover Workshop\, hosted by the School of Business and Technology and ServiceNow! Learn how to build your personal and professional brand on LinkedIn.  We’ll explore tips and tricks on how to optimize your networking opportunities using LinkedIn! \nClick here to register and you will receive a Zoom link for the event.
URL:https://htusbt.net/event/daily-marketing-3-building-a-brand-everyday-everywhere-by-everyone/
LOCATION:Zoom Panel Discussion
CATEGORIES:Branding,Business,Computer Science
ATTACH;FMTTYPE=image/png:https://htusbt.net/wp-content/uploads/2021/03/02.08.2022-LinkedIn-Makeover-Flyer.png
ORGANIZER;CN="School of Business and Technology (SBT)":MAILTO:sbt@htu.edu
END:VEVENT
BEGIN:VEVENT
DTSTART;TZID=UTC:20210427T160000
DTEND;TZID=UTC:20210427T170000
DTSTAMP:20260423T233855
CREATED:20210330T183503Z
LAST-MODIFIED:20210428T192119Z
UID:23214-1619539200-1619542800@htusbt.net
SUMMARY:Financial Literacy Workshops
DESCRIPTION:Join us for Financial Literacy Month! We will host four different workshops: Understanding Credit Scores & Credit Reports\, Personal Budgeting\, Investing 101\, and Careers in Commercial Banking. Hosted by the We Care: Financial Literacy and Student Persistence Center in the School of Business and Technology. \nClick here to register and you will receive a Zoom link for the event.
URL:https://htusbt.net/event/financial-literacy-workshops/
LOCATION:Zoom Panel Discussion
CATEGORIES:Business,Financial Literacy,Past Events
ATTACH;FMTTYPE=image/png:https://htusbt.net/wp-content/uploads/2021/03/Dark-Blue-with-Popcorn-Graphic-Movie-Night-Flyer-5.png
ORGANIZER;CN="School of Business and Technology (SBT)":MAILTO:sbt@htu.edu
END:VEVENT
BEGIN:VEVENT
DTSTART;TZID=UTC:20260423T233855
DTEND;TZID=UTC:20260423T233855
DTSTAMP:20260423T233855
CREATED:20240813T003454Z
LAST-MODIFIED:20240813T003454Z
UID:227505-0-0@htusbt.net
SUMMARY:26618
DESCRIPTION:
URL:https://htusbt.net/event/26618/
END:VEVENT
BEGIN:VEVENT
DTSTART;TZID=UTC:20260423T233855
DTEND;TZID=UTC:20260423T233855
DTSTAMP:20260423T233855
CREATED:20240813T003438Z
LAST-MODIFIED:20240813T003438Z
UID:227503-0-0@htusbt.net
SUMMARY:26578
DESCRIPTION:
URL:https://htusbt.net/event/26578/
END:VEVENT
BEGIN:VEVENT
DTSTART;TZID=UTC:20260423T233855
DTEND;TZID=UTC:20260423T233855
DTSTAMP:20260423T233855
CREATED:20240813T003438Z
LAST-MODIFIED:20240813T003438Z
UID:227504-0-0@htusbt.net
SUMMARY:26616
DESCRIPTION:
URL:https://htusbt.net/event/26616/
END:VEVENT
BEGIN:VEVENT
DTSTART;TZID=UTC:20260423T233855
DTEND;TZID=UTC:20260423T233855
DTSTAMP:20260423T233855
CREATED:20240813T003437Z
LAST-MODIFIED:20240813T003437Z
UID:227502-0-0@htusbt.net
SUMMARY:26496
DESCRIPTION:
URL:https://htusbt.net/event/26496/
END:VEVENT
BEGIN:VEVENT
DTSTART;TZID=UTC:20260423T233855
DTEND;TZID=UTC:20260423T233855
DTSTAMP:20260423T233855
CREATED:20240813T003437Z
LAST-MODIFIED:20240813T003437Z
UID:227500-0-0@htusbt.net
SUMMARY:26482
DESCRIPTION:
URL:https://htusbt.net/event/26482/
END:VEVENT
BEGIN:VEVENT
DTSTART;TZID=UTC:20260423T233855
DTEND;TZID=UTC:20260423T233855
DTSTAMP:20260423T233855
CREATED:20240813T003437Z
LAST-MODIFIED:20240813T003437Z
UID:227501-0-0@htusbt.net
SUMMARY:26488
DESCRIPTION:
URL:https://htusbt.net/event/26488/
END:VEVENT
BEGIN:VEVENT
DTSTART;TZID=UTC:20260423T233855
DTEND;TZID=UTC:20260423T233855
DTSTAMP:20260423T233855
CREATED:20240813T003423Z
LAST-MODIFIED:20240813T003423Z
UID:227498-0-0@htusbt.net
SUMMARY:26183
DESCRIPTION:
URL:https://htusbt.net/event/26183/
END:VEVENT
BEGIN:VEVENT
DTSTART;TZID=UTC:20260423T233855
DTEND;TZID=UTC:20260423T233855
DTSTAMP:20260423T233855
CREATED:20240813T003423Z
LAST-MODIFIED:20240813T003423Z
UID:227499-0-0@htusbt.net
SUMMARY:26189
DESCRIPTION:
URL:https://htusbt.net/event/26189/
END:VEVENT
BEGIN:VEVENT
DTSTART;TZID=UTC:20260423T233855
DTEND;TZID=UTC:20260423T233855
DTSTAMP:20260423T233855
CREATED:20240813T003422Z
LAST-MODIFIED:20240813T003422Z
UID:227495-0-0@htusbt.net
SUMMARY:25504
DESCRIPTION:
URL:https://htusbt.net/event/25504/
END:VEVENT
BEGIN:VEVENT
DTSTART;TZID=UTC:20260423T233855
DTEND;TZID=UTC:20260423T233855
DTSTAMP:20260423T233855
CREATED:20240813T003422Z
LAST-MODIFIED:20240813T003422Z
UID:227496-0-0@htusbt.net
SUMMARY:25526
DESCRIPTION:
URL:https://htusbt.net/event/25526/
END:VEVENT
BEGIN:VEVENT
DTSTART;TZID=UTC:20260423T233855
DTEND;TZID=UTC:20260423T233855
DTSTAMP:20260423T233855
CREATED:20240813T003422Z
LAST-MODIFIED:20240813T003422Z
UID:227497-0-0@htusbt.net
SUMMARY:25533
DESCRIPTION:
URL:https://htusbt.net/event/25533/
END:VEVENT
BEGIN:VEVENT
DTSTART;TZID=UTC:20260423T233855
DTEND;TZID=UTC:20260423T233855
DTSTAMP:20260423T233855
CREATED:20240813T003418Z
LAST-MODIFIED:20240813T003418Z
UID:227494-0-0@htusbt.net
SUMMARY:23214
DESCRIPTION:
URL:https://htusbt.net/event/23214/
END:VEVENT
BEGIN:VEVENT
DTSTART;TZID=UTC:20260423T233855
DTEND;TZID=UTC:20260423T233855
DTSTAMP:20260423T233855
CREATED:20240813T003418Z
LAST-MODIFIED:20240813T003418Z
UID:227493-0-0@htusbt.net
SUMMARY:23177
DESCRIPTION:
URL:https://htusbt.net/event/23177/
END:VEVENT
BEGIN:VEVENT
DTSTART;TZID=UTC:20260423T233855
DTEND;TZID=UTC:20260423T233855
DTSTAMP:20260423T233855
CREATED:20240813T003417Z
LAST-MODIFIED:20240813T003417Z
UID:227490-0-0@htusbt.net
SUMMARY:22740
DESCRIPTION:
URL:https://htusbt.net/event/22740/
END:VEVENT
BEGIN:VEVENT
DTSTART;TZID=UTC:20260423T233855
DTEND;TZID=UTC:20260423T233855
DTSTAMP:20260423T233855
CREATED:20240813T003417Z
LAST-MODIFIED:20240813T003417Z
UID:227491-0-0@htusbt.net
SUMMARY:22994
DESCRIPTION:
URL:https://htusbt.net/event/22994/
END:VEVENT
BEGIN:VEVENT
DTSTART;TZID=UTC:20260423T233855
DTEND;TZID=UTC:20260423T233855
DTSTAMP:20260423T233855
CREATED:20240813T003417Z
LAST-MODIFIED:20240813T003417Z
UID:227492-0-0@htusbt.net
SUMMARY:23142
DESCRIPTION:
URL:https://htusbt.net/event/23142/
END:VEVENT
END:VCALENDAR