BEGIN:VCALENDAR
VERSION:2.0
PRODID:-//SBT - ECPv6.15.11//NONSGML v1.0//EN
CALSCALE:GREGORIAN
METHOD:PUBLISH
X-WR-CALNAME:SBT
X-ORIGINAL-URL:https://htusbt.net
X-WR-CALDESC:Events for SBT
REFRESH-INTERVAL;VALUE=DURATION:PT1H
X-Robots-Tag:noindex
X-PUBLISHED-TTL:PT1H
BEGIN:VTIMEZONE
TZID:UTC
BEGIN:STANDARD
TZOFFSETFROM:+0000
TZOFFSETTO:+0000
TZNAME:UTC
DTSTART:20240101T000000
END:STANDARD
END:VTIMEZONE
BEGIN:VEVENT
DTSTART;TZID=UTC:20251104T100000
DTEND;TZID=UTC:20251104T105000
DTSTAMP:20260424T003449
CREATED:20220906T163735Z
LAST-MODIFIED:20251028T163218Z
UID:25504-1762250400-1762253400@htusbt.net
SUMMARY:Enron Whistleblower Guest Speaker
DESCRIPTION:Prepare for a unique and compelling event Tuesday\, November 4\, at 10:00 am.  \nWe are honored to host Sherron Watkins\, who is widely known as The Enron Whistleblower and played a pivotal role in uncovering one of the largest corporate frauds in history.
URL:https://htusbt.net/event/sxm-ready-week/
LOCATION:DL Auditorium
CATEGORIES:Business,Computer Science,Marketing
ATTACH;FMTTYPE=image/png:https://htusbt.net/wp-content/uploads/2022/09/Guest-Speaker-Instagram-Post.png
ORGANIZER;CN="School of Business and Technology (SBT)":MAILTO:sbt@htu.edu
END:VEVENT
BEGIN:VEVENT
DTSTART;TZID=UTC:20251104T110000
DTEND;TZID=UTC:20251104T115000
DTSTAMP:20260424T003449
CREATED:20240618T172511Z
LAST-MODIFIED:20251030T145410Z
UID:226462-1762254000-1762257000@htusbt.net
SUMMARY:SBT SPEAK
DESCRIPTION:We’re excited to finally share something big with you: SBT SPEAK is here. \nThink of SBT SPEAK as our own version of TED Talks\, but built by and for the HT community. We wanted a place where bold ideas and real passion could take center stage—a place to hear from people who aren’t just talking about the future\, but actually building it. \nSo\, what exactly is SBT SPEAK? It stands for Sharing Perspectives\, Expertise\, Ambition\, and Knowledge. It’s a fresh forum where students\, professors\, and industry leaders get up and share quick\, powerful talks about what drives them. You’ll hear from students who are deep into research projects\, faculty who are pushing the boundaries in their fields\, and top industry folks who see the world changing in real time. \nYou’ll get everything from the latest advances in tech and entrepreneurship to honest takes on leadership\, business\, and personal growth. It’s not just a bunch of talks—it’s a chance to get inspired\, to challenge how you see things\, and maybe even to spark some of your own ideas. \nDon’t just read about what’s next. Come listen to the people making it happen. SBT SPEAK is your ticket to fresh perspectives\, real connections\, and a community that’s all about aiming higher. Join us. Let’s get inspired together.
URL:https://htusbt.net/event/sbt-speak/
LOCATION:AL Auditorium\, 900 Chicon Street\, Austin\, TX\, 78702\, United States
CATEGORIES:Branding,Business,Computer Science
ATTACH;FMTTYPE=image/jpeg:https://htusbt.net/wp-content/uploads/2025/10/Final-Cop-SBT-Speak.jpg
ORGANIZER;CN="School of Business and Technology (SBT)":MAILTO:sbt@htu.edu
END:VEVENT
BEGIN:VEVENT
DTSTART;VALUE=DATE:20260205
DTEND;VALUE=DATE:20260508
DTSTAMP:20260424T003449
CREATED:20240130T165933Z
LAST-MODIFIED:20260109T223004Z
UID:26496-1770249600-1778198399@htusbt.net
SUMMARY:MBA Virtual Information Session
DESCRIPTION:Since the MBA Program was launched in 2019\, we have seen exponential growth with every new cohort\, encouraging us to open our spring semesters to incoming students.  Join us the first Thursday of every month for a virtual 30-minute informational session. \nHuston-Tillotson University’s MBA program is a12-course\, 36-credit hour blended learning format of online and on-campus courses. This is designed with working individuals in Austin and the surrounding areas in mind. \nRegister for a virtual session here.
URL:https://htusbt.net/event/mba-virtual-information-session/
LOCATION:Zoom Panel Discussion
CATEGORIES:Business
ATTACH;FMTTYPE=image/jpeg:https://htusbt.net/wp-content/uploads/2024/01/MBA-Flyer.jpg
ORGANIZER;CN="School of Business and Technology (SBT)":MAILTO:sbt@htu.edu
END:VEVENT
BEGIN:VEVENT
DTSTART;TZID=UTC:20260411T100000
DTEND;TZID=UTC:20260411T143000
DTSTAMP:20260424T003449
CREATED:20251028T163951Z
LAST-MODIFIED:20260228T000752Z
UID:227934-1775901600-1775917800@htusbt.net
SUMMARY:5th Annual Financial Wellness Symposium
DESCRIPTION:Get ready to invest in yourself! \nHuston-Tillotson University’s School of Business and Technology is thrilled to announce our 5th annual Financial Wellness Symposium on Saturday\, April 11th! \nThe event kicks off at 10:00a CST with a warm breakfast and an essential presentation on the current state of the economy. The day is packed with high-value content\, including morning breakout sessions led by industry professionals\, an afternoon lunch buffet featuring a presentation on entrepreneurship\, and closing sessions discussing various vital financial topics. \nThis symposium is open to the entire Austin public as well as all HT students\, faculty\, and staff. \nClick here to register!
URL:https://htusbt.net/event/5th-annual-financial-wellness-symposium/
LOCATION:AL Auditorium\, 900 Chicon Street\, Austin\, TX\, 78702\, United States
CATEGORIES:Branding,Business,Computer Science,Financial Literacy,Marketing
ATTACH;FMTTYPE=image/png:https://htusbt.net/wp-content/uploads/2025/10/2026-FWS-Save-the-Date-5.png
ORGANIZER;CN="School of Business and Technology (SBT)":MAILTO:sbt@htu.edu
END:VEVENT
END:VCALENDAR