BEGIN:VCALENDAR
VERSION:2.0
PRODID:-//SBT - ECPv6.15.11//NONSGML v1.0//EN
CALSCALE:GREGORIAN
METHOD:PUBLISH
X-WR-CALNAME:SBT
X-ORIGINAL-URL:https://htusbt.net
X-WR-CALDESC:Events for SBT
REFRESH-INTERVAL;VALUE=DURATION:PT1H
X-Robots-Tag:noindex
X-PUBLISHED-TTL:PT1H
BEGIN:VTIMEZONE
TZID:UTC
BEGIN:STANDARD
TZOFFSETFROM:+0000
TZOFFSETTO:+0000
TZNAME:UTC
DTSTART:19690101T000000
END:STANDARD
END:VTIMEZONE
BEGIN:VTIMEZONE
TZID:America/Indiana/Tell_City
BEGIN:DAYLIGHT
TZOFFSETFROM:-0600
TZOFFSETTO:-0500
TZNAME:CDT
DTSTART:20210314T080000
END:DAYLIGHT
BEGIN:STANDARD
TZOFFSETFROM:-0500
TZOFFSETTO:-0600
TZNAME:CST
DTSTART:20211107T070000
END:STANDARD
BEGIN:DAYLIGHT
TZOFFSETFROM:-0600
TZOFFSETTO:-0500
TZNAME:CDT
DTSTART:20220313T080000
END:DAYLIGHT
BEGIN:STANDARD
TZOFFSETFROM:-0500
TZOFFSETTO:-0600
TZNAME:CST
DTSTART:20221106T070000
END:STANDARD
BEGIN:DAYLIGHT
TZOFFSETFROM:-0600
TZOFFSETTO:-0500
TZNAME:CDT
DTSTART:20230312T080000
END:DAYLIGHT
BEGIN:STANDARD
TZOFFSETFROM:-0500
TZOFFSETTO:-0600
TZNAME:CST
DTSTART:20231105T070000
END:STANDARD
END:VTIMEZONE
BEGIN:VEVENT
DTSTART;TZID=UTC:20251104T110000
DTEND;TZID=UTC:20251104T115000
DTSTAMP:20260423T190129
CREATED:20240618T172511Z
LAST-MODIFIED:20251030T145410Z
UID:226462-1762254000-1762257000@htusbt.net
SUMMARY:SBT SPEAK
DESCRIPTION:We’re excited to finally share something big with you: SBT SPEAK is here. \nThink of SBT SPEAK as our own version of TED Talks\, but built by and for the HT community. We wanted a place where bold ideas and real passion could take center stage—a place to hear from people who aren’t just talking about the future\, but actually building it. \nSo\, what exactly is SBT SPEAK? It stands for Sharing Perspectives\, Expertise\, Ambition\, and Knowledge. It’s a fresh forum where students\, professors\, and industry leaders get up and share quick\, powerful talks about what drives them. You’ll hear from students who are deep into research projects\, faculty who are pushing the boundaries in their fields\, and top industry folks who see the world changing in real time. \nYou’ll get everything from the latest advances in tech and entrepreneurship to honest takes on leadership\, business\, and personal growth. It’s not just a bunch of talks—it’s a chance to get inspired\, to challenge how you see things\, and maybe even to spark some of your own ideas. \nDon’t just read about what’s next. Come listen to the people making it happen. SBT SPEAK is your ticket to fresh perspectives\, real connections\, and a community that’s all about aiming higher. Join us. Let’s get inspired together.
URL:https://htusbt.net/event/sbt-speak/
LOCATION:AL Auditorium\, 900 Chicon Street\, Austin\, TX\, 78702\, United States
CATEGORIES:Branding,Business,Computer Science
ATTACH;FMTTYPE=image/jpeg:https://htusbt.net/wp-content/uploads/2025/10/Final-Cop-SBT-Speak.jpg
ORGANIZER;CN="School of Business and Technology (SBT)":MAILTO:sbt@htu.edu
END:VEVENT
BEGIN:VEVENT
DTSTART;TZID=UTC:20251104T100000
DTEND;TZID=UTC:20251104T105000
DTSTAMP:20260423T190129
CREATED:20220906T163735Z
LAST-MODIFIED:20251028T163218Z
UID:25504-1762250400-1762253400@htusbt.net
SUMMARY:Enron Whistleblower Guest Speaker
DESCRIPTION:Prepare for a unique and compelling event Tuesday\, November 4\, at 10:00 am.  \nWe are honored to host Sherron Watkins\, who is widely known as The Enron Whistleblower and played a pivotal role in uncovering one of the largest corporate frauds in history.
URL:https://htusbt.net/event/sxm-ready-week/
LOCATION:DL Auditorium
CATEGORIES:Business,Computer Science,Marketing
ATTACH;FMTTYPE=image/png:https://htusbt.net/wp-content/uploads/2022/09/Guest-Speaker-Instagram-Post.png
ORGANIZER;CN="School of Business and Technology (SBT)":MAILTO:sbt@htu.edu
END:VEVENT
BEGIN:VEVENT
DTSTART;TZID=UTC:20250405T100000
DTEND;TZID=UTC:20250405T143000
DTSTAMP:20260423T190129
CREATED:20240130T162532Z
LAST-MODIFIED:20241216T200459Z
UID:26488-1743847200-1743863400@htusbt.net
SUMMARY:Financial Wellness Syposium
DESCRIPTION:Huston-Tillotson University’s School of Business and Technology is hosting our 4th annual Financial Wellness Symposium on Saturday\, April 5th! \nThis event is open to the Austin public as well as all HT students\, faculty\, and staff. \nWe will kick off at 10:00a CST with a warm breakfast and a presentation on the current state of the economy.  This will be followed by our morning breakout sessions led by industry professionals\, an afternoon lunch buffet and presentation on entrepreneurship\, and the day will wrap with afternoon sessions discussing various topics.  Make sure to stick around till the end to win door prizes! \nClick here to register and you will receive a calendar reminder for the event.
URL:https://htusbt.net/event/financial-wellness-syposium/
LOCATION:AL Auditorium\, 900 Chicon Street\, Austin\, TX\, 78702\, United States
CATEGORIES:Financial Literacy
ATTACH;FMTTYPE=image/png:https://htusbt.net/wp-content/uploads/2024/12/FWS-2025_website-flyer.png
ORGANIZER;CN="School of Business and Technology (SBT)":MAILTO:sbt@htu.edu
END:VEVENT
BEGIN:VEVENT
DTSTART;TZID=UTC:20250206T090000
DTEND;TZID=UTC:20250206T103000
DTSTAMP:20260423T190129
CREATED:20240814T204359Z
LAST-MODIFIED:20250121T223005Z
UID:227562-1738832400-1738837800@htusbt.net
SUMMARY:FDIC HBCU Webinar
DESCRIPTION:  \nOur community is invited to attend the first-of-its-kind\, FDIC Community Development through Historically Black Colleges and Universities (HBCUs) webinar. Learn about the partnership between The School of Business and Technology and Keystone Bank from Dean Rohan Thompson\, Ph.D. \nClick here to register for the event.
URL:https://htusbt.net/event/sbt-deep-dive-session-2-college-money-moves/
LOCATION:Zoom Panel Discussion
CATEGORIES:Business,Computer Science,Financial Literacy
ATTACH;FMTTYPE=image/png:https://htusbt.net/wp-content/uploads/2025/01/FDIC-Webinar-Flyer.png
ORGANIZER;CN="School of Business and Technology (SBT)":MAILTO:sbt@htu.edu
END:VEVENT
BEGIN:VEVENT
DTSTART;TZID=UTC:20241029T110000
DTEND;TZID=UTC:20241029T121500
DTSTAMP:20260423T190129
CREATED:20240827T183352Z
LAST-MODIFIED:20240906T215359Z
UID:227654-1730199600-1730204100@htusbt.net
SUMMARY:SBT Deep Dive Session #2: Real Estate
DESCRIPTION:Join us for our second deep dive conversation about the many facets of the real estate industry. Our expert panel\, featuring seasoned professionals\, will provide valuable insights and actionable advice. Whether you’re interested in residential/commercial\, private equity or venture capital\, this conversation promises to deliver a wealth of knowledge. Be sure to bring your questions and curiosity as we delve into topics like sustainable development\, market forecasting\, and investment strategies. Let’s navigate the complexities of real estate together and uncover the opportunities that await!
URL:https://htusbt.net/event/sbt-deep-dive-session-2-real-estate/
LOCATION:AL Auditorium\, 900 Chicon Street\, Austin\, TX\, 78702\, United States
CATEGORIES:Branding,Business,Computer Science,Financial Literacy,Marketing
ATTACH;FMTTYPE=image/png:https://htusbt.net/wp-content/uploads/2024/09/sbt-dd2.png
ORGANIZER;CN="School of Business and Technology (SBT)":MAILTO:sbt@htu.edu
END:VEVENT
BEGIN:VEVENT
DTSTART;TZID=UTC:20241015T110000
DTEND;TZID=UTC:20241015T123000
DTSTAMP:20260423T190129
CREATED:20240813T004148Z
LAST-MODIFIED:20240906T215426Z
UID:227509-1728990000-1728995400@htusbt.net
SUMMARY:SBT Deep Dive Session #1: Entrepreneurship
DESCRIPTION:  \n\nThe SBT has collaborated with Rose Smith from Black Women in Business and Theodore Pearson\, Assistant Vice President and Branch Manager of Sunflower Bank\, to present our inaugural Deep Dive Session focusing on the legal and business aspects of entrepreneurship. The event will offer insight into the legalities and financial literacy of small business\, and include a panel discussion featuring experienced entrepreneurs. Attendees will also have the chance to network with local vendors and discover their entrepreneurial journeys.  \nWe invite our entire HT community to join us at this insightful and exciting event!
URL:https://htusbt.net/event/sbt-deep-dive-session-1-entrepreneurship/
LOCATION:AL Auditorium\, 900 Chicon Street\, Austin\, TX\, 78702\, United States
CATEGORIES:Business,Computer Science,Financial Literacy
ATTACH;FMTTYPE=image/png:https://htusbt.net/wp-content/uploads/2024/09/sbt-dd1.png
END:VEVENT
BEGIN:VEVENT
DTSTART;TZID=UTC:20240910T080000
DTEND;TZID=UTC:20240912T170000
DTSTAMP:20260423T190129
CREATED:20240813T003854Z
LAST-MODIFIED:20240903T182717Z
UID:227506-1725955200-1726160400@htusbt.net
SUMMARY:SBT Professional Development Week
DESCRIPTION:Every fall\, the School of Business and Technology organizes a series of professional development activities. This semester\, we aim to invite the entire Huston-Tillotson University community to our initial two events: a Resume & LinkedIn Panel Discussion\, and a Live Mock Interview with Complimentary Headshots.
URL:https://htusbt.net/event/sbt-professional-development-week/
LOCATION:AL Auditorium\, 900 Chicon Street\, Austin\, TX\, 78702\, United States
CATEGORIES:Business,Computer Science
ATTACH;FMTTYPE=image/png:https://htusbt.net/wp-content/uploads/2024/08/2024-SBT-Professional-Development-Flyer-Instagram-Post-1.png
ORGANIZER;CN="School of Business and Technology (SBT)":MAILTO:sbt@htu.edu
END:VEVENT
BEGIN:VEVENT
DTSTART;TZID=UTC:20240305T110000
DTEND;TZID=UTC:20240305T123000
DTSTAMP:20260423T190130
CREATED:20240227T174335Z
LAST-MODIFIED:20240227T174335Z
UID:26578-1709636400-1709641800@htusbt.net
SUMMARY:Learn About EVs with Austin Energy
DESCRIPTION:Ever been curious about Electric Vehicles? 🚗 \nCome out to A-L Auditorium on Tuesday\, March 5\, at 11AM for a live demonstration hosted by Austin Energy!  There will be VR demos\, EV fleet vehicle show & tell\, delicious food\, and great swag! ⚡ \nSUMMARY \n\nEvent: Learn About EVs with Austin Energy!\nDate: Tuesday 3/5\nTime: 11AM – 12:30PM\nPlace: A-L Auditorium\nNotes: VR demos\, EV fleet vehicle show\, food\, and swag
URL:https://htusbt.net/event/learn-about-evs-with-austin-energy/
LOCATION:AL Auditorium\, 900 Chicon Street\, Austin\, TX\, 78702\, United States
CATEGORIES:Business,Computer Science
ATTACH;FMTTYPE=image/png:https://htusbt.net/wp-content/uploads/2024/02/Austin-Energy-Event-Flyer-1.png
ORGANIZER;CN="School of Business and Technology (SBT)":MAILTO:sbt@htu.edu
END:VEVENT
BEGIN:VEVENT
DTSTART;VALUE=DATE:20231031
DTEND;VALUE=DATE:20231103
DTSTAMP:20260423T190130
CREATED:20230905T213257Z
LAST-MODIFIED:20230905T213257Z
UID:26189-1698710400-1698969599@htusbt.net
SUMMARY:SBT Fall 2023 Professional Development Week
DESCRIPTION:All Huston-Tillotson University students are invited to attend Professional Development Week hosted by The School of Business and Technology.  We will kick-off week with financial wellness conversations by professionals from PNC\, Bank of America\, and Capital One.  The next day will continue with a Dream Big panel discussion with professionals from ServiceNow and wrap with a party\, DJ\, and treats.  That Thursday\, the week will wrap with a Networking Mixer where our partners come meet our student and provide them with an opportunity to connect and learn about internships. \nPolish up and come out!
URL:https://htusbt.net/event/sbt-fall-2023-professional-development-week/
LOCATION:TX
CATEGORIES:Business,Computer Science,Financial Literacy
ATTACH;FMTTYPE=image/png:https://htusbt.net/wp-content/uploads/2023/09/FA23-SBT-Prof-Dev.png
ORGANIZER;CN="School of Business and Technology (SBT)":MAILTO:sbt@htu.edu
END:VEVENT
BEGIN:VEVENT
DTSTART;TZID=UTC:20230907T180000
DTEND;TZID=UTC:20230907T183000
DTSTAMP:20260423T190130
CREATED:20230905T173109Z
LAST-MODIFIED:20240129T222320Z
UID:26183-1694109600-1694111400@htusbt.net
SUMMARY:Fall 2023 Virtual MBA Info Session
DESCRIPTION:Since the MBA Program was launched in 2019\, we have seen exponential growth with every new cohort\, encouraging us to open our spring semesters to incoming students.  Join us the first Thursday of every month for a virtual 30-minute informational session with Dean Thompson and Dr. Bonyuet\, MBA Coordinator. \nHuston-Tillotson University’s MBA program is a12-course\, 36-credit hour blended learning format of online and on-campus courses. This is designed with working individuals in Austin and the surrounding areas in mind. \nOne unique feature of HT’s MBA program is the global trip\, which fosters education through pre-trip meetings\, research\, and discussions before\, during\, and after the trip. By experiencing cultural differences within formal and informal settings\, the students learn what influences business decisions.
URL:https://htusbt.net/event/fall-2023-virtual-mba-info-session/
LOCATION:Zoom Panel Discussion
CATEGORIES:Business
ATTACH;FMTTYPE=image/png:https://htusbt.net/wp-content/uploads/2023/09/FA23-MBA-info-Session.png
ORGANIZER;CN="School of Business and Technology (SBT)":MAILTO:sbt@htu.edu
END:VEVENT
BEGIN:VEVENT
DTSTART;TZID=UTC:20230406T180000
DTEND;TZID=UTC:20230406T184500
DTSTAMP:20260423T190130
CREATED:20230110T234815Z
LAST-MODIFIED:20230905T171758Z
UID:25533-1680804000-1680806700@htusbt.net
SUMMARY:MBA Info Sessions
DESCRIPTION:Are you looking to get that promotion or further expand on your education? Join us on the first Thursday of every month for a virtual 45-minute informational session on our Master’s of Business Administration program\, launched in 2019. \nHuston-Tillotson University’s MBA is a12-course\, 36-credit hour hybrid program designed for working individuals in Austin and the surrounding areas. It offers a blended learning format of online and on-campus courses. \nOne unique feature of HT’s MBA program is the mandatory global trip. Global trips foster education through formal and informal learning\, including pre-trip meetings\, research\, and discussions before\, during\, and after the trip. By experiencing cultural differences\, the students learn how culture influences business decisions. \n 
URL:https://htusbt.net/event/mba-info-sessions/
LOCATION:Zoom Panel Discussion
CATEGORIES:Business,Past Events
ATTACH;FMTTYPE=image/png:https://htusbt.net/wp-content/uploads/2023/01/MBA-Info-Session-Email-Campaign-2.png
ORGANIZER;CN="School of Business and Technology (SBT)":MAILTO:sbt@htu.edu
END:VEVENT
BEGIN:VEVENT
DTSTART;TZID=UTC:20230401T093000
DTEND;TZID=UTC:20230401T143000
DTSTAMP:20260423T190130
CREATED:20210322T184534Z
LAST-MODIFIED:20230320T201758Z
UID:23142-1680341400-1680359400@htusbt.net
SUMMARY:2023 Financial Wellness Symposium
DESCRIPTION:Huston-Tillotson University’s School of Business and Technology is hosting our 2nd annual Financial Wellness Symposium on Saturday\, April\, 1st! \nThis event is open to the Austin public as well as all HT students\, faculty\, and staff. \nWe will kick off at 9:30a CST with a warm breakfast and a presentation on the current state of the economy by Texas Capital Bank CIO\, Steve Orr. We will be discussing various topics during the breakout sessions in the morning and afternoon.  Make sure you stick around till the end to win prizes! \nClick here to register and you will receive a calendar reminder for the event.
URL:https://htusbt.net/event/financial-wellness-symposium/
LOCATION:AL Auditorium\, 900 Chicon Street\, Austin\, TX\, 78702\, United States
CATEGORIES:Business,Computer Science,Financial Literacy
ATTACH;FMTTYPE=image/png:https://htusbt.net/wp-content/uploads/2021/03/events-open-houses-1.png
ORGANIZER;CN="School of Business and Technology (SBT)":MAILTO:sbt@htu.edu
END:VEVENT
BEGIN:VEVENT
DTSTART;TZID=UTC:20221110T120000
DTEND;TZID=UTC:20221110T150000
DTSTAMP:20260423T190130
CREATED:20221031T223118Z
LAST-MODIFIED:20221031T223118Z
UID:25526-1668081600-1668092400@htusbt.net
SUMMARY:Dream Big Frito Lay Case Competition
DESCRIPTION:You’re invited to an SBT partner event: \nDream Big Frito Lay Case Competition! \nStudents should register their groups by November 7th using this sign-up form. Cash prizes will be given to the top three teams with 1st place winning $3\,000! \n*This event is open to all HT students.
URL:https://htusbt.net/event/dream-big-frito-lay-case-competition/
LOCATION:AL Auditorium\, 900 Chicon Street\, Austin\, TX\, 78702\, United States
CATEGORIES:Branding,Business,Computer Science
ATTACH;FMTTYPE=image/png:https://htusbt.net/wp-content/uploads/2022/10/Frito-Lay-Case-Competition-Flyer-Instagram-Post-Square.png
ORGANIZER;CN="School of Business and Technology (SBT)":MAILTO:sbt@htu.edu
END:VEVENT
BEGIN:VEVENT
DTSTART;TZID=America/Indiana/Tell_City:20220430T090000
DTEND;TZID=America/Indiana/Tell_City:20220430T160000
DTSTAMP:20260423T190130
CREATED:20210206T155309Z
LAST-MODIFIED:20220906T162533Z
UID:22740-1651309200-1651334400@htusbt.net
SUMMARY:Financial Wellness & Prosperity Seminar
DESCRIPTION:Join the School of Business and Technology for a day of Financial Wellness and Prosperity!  You will learn the basics of investing\, building personal wealth\, homebuying tips and much more.  Breakfast\, lunch\, and snacks will be provided.  Make sure to stick around for the gift card raffle at the end of the event! \nThis is event is open to all HT students the entire public of the greater Austin area.  \nClick here to register!
URL:https://htusbt.net/event/daily-marketing-building-a-brand-everyday-everywhere-by-everyone/
LOCATION:AL Auditorium\, 900 Chicon Street\, Austin\, TX\, 78702\, United States
CATEGORIES:Business,Financial Literacy,Past Events
ATTACH;FMTTYPE=image/png:https://htusbt.net/wp-content/uploads/2021/02/Flyer-Registration-1.png
ORGANIZER;CN="School of Business and Technology (SBT)":MAILTO:sbt@htu.edu
END:VEVENT
BEGIN:VEVENT
DTSTART;TZID=UTC:20220421T163000
DTEND;TZID=UTC:20220421T180000
DTSTAMP:20260423T190130
CREATED:20210309T171728Z
LAST-MODIFIED:20220408T192102Z
UID:22994-1650558600-1650564000@htusbt.net
SUMMARY:Daily Marketing 3
DESCRIPTION:Join us as we kick-off the final installation of our three-part series hosted by the School of Business and Technology! We’ll explore the world of Personal Branding and Marketing with Sania Haq\, Head of Marketing Research at AudienceNet. \nClick here to register and you will receive a Zoom link for the event.
URL:https://htusbt.net/event/daily-marketing-series-2-building-a-brand-everyday-everywhere-by-everyone/
LOCATION:Zoom Panel Discussion
CATEGORIES:Branding,Business,Marketing
ATTACH;FMTTYPE=image/png:https://htusbt.net/wp-content/uploads/2021/03/Marketing-Series-3_QR-Flyer.png
ORGANIZER;CN="School of Business and Technology (SBT)":MAILTO:sbt@htu.edu
END:VEVENT
BEGIN:VEVENT
DTSTART;TZID=UTC:20220208T153000
DTEND;TZID=UTC:20220208T163000
DTSTAMP:20260423T190130
CREATED:20210324T173039Z
LAST-MODIFIED:20220207T155004Z
UID:23177-1644334200-1644337800@htusbt.net
SUMMARY:LinkedIn Makeover
DESCRIPTION:Join us for a LinkedIn Makeover Workshop\, hosted by the School of Business and Technology and ServiceNow! Learn how to build your personal and professional brand on LinkedIn.  We’ll explore tips and tricks on how to optimize your networking opportunities using LinkedIn! \nClick here to register and you will receive a Zoom link for the event.
URL:https://htusbt.net/event/daily-marketing-3-building-a-brand-everyday-everywhere-by-everyone/
LOCATION:Zoom Panel Discussion
CATEGORIES:Branding,Business,Computer Science
ATTACH;FMTTYPE=image/png:https://htusbt.net/wp-content/uploads/2021/03/02.08.2022-LinkedIn-Makeover-Flyer.png
ORGANIZER;CN="School of Business and Technology (SBT)":MAILTO:sbt@htu.edu
END:VEVENT
BEGIN:VEVENT
DTSTART;TZID=UTC:20210427T160000
DTEND;TZID=UTC:20210427T170000
DTSTAMP:20260423T190130
CREATED:20210330T183503Z
LAST-MODIFIED:20210428T192119Z
UID:23214-1619539200-1619542800@htusbt.net
SUMMARY:Financial Literacy Workshops
DESCRIPTION:Join us for Financial Literacy Month! We will host four different workshops: Understanding Credit Scores & Credit Reports\, Personal Budgeting\, Investing 101\, and Careers in Commercial Banking. Hosted by the We Care: Financial Literacy and Student Persistence Center in the School of Business and Technology. \nClick here to register and you will receive a Zoom link for the event.
URL:https://htusbt.net/event/financial-literacy-workshops/
LOCATION:Zoom Panel Discussion
CATEGORIES:Business,Financial Literacy,Past Events
ATTACH;FMTTYPE=image/png:https://htusbt.net/wp-content/uploads/2021/03/Dark-Blue-with-Popcorn-Graphic-Movie-Night-Flyer-5.png
ORGANIZER;CN="School of Business and Technology (SBT)":MAILTO:sbt@htu.edu
END:VEVENT
BEGIN:VEVENT
DTSTART;TZID=UTC:20260423T190130
DTEND;TZID=UTC:20260423T190130
DTSTAMP:20260423T190130
CREATED:20240813T003454Z
LAST-MODIFIED:20240813T003454Z
UID:227505-0-0@htusbt.net
SUMMARY:26618
DESCRIPTION:
URL:https://htusbt.net/event/26618/
LOCATION:TX
END:VEVENT
BEGIN:VEVENT
DTSTART;TZID=UTC:20260423T190130
DTEND;TZID=UTC:20260423T190130
DTSTAMP:20260423T190130
CREATED:20240813T003438Z
LAST-MODIFIED:20240813T003438Z
UID:227503-0-0@htusbt.net
SUMMARY:26578
DESCRIPTION:
URL:https://htusbt.net/event/26578/
LOCATION:TX
END:VEVENT
BEGIN:VEVENT
DTSTART;TZID=UTC:20260423T190130
DTEND;TZID=UTC:20260423T190130
DTSTAMP:20260423T190130
CREATED:20240813T003438Z
LAST-MODIFIED:20240813T003438Z
UID:227504-0-0@htusbt.net
SUMMARY:26616
DESCRIPTION:
URL:https://htusbt.net/event/26616/
LOCATION:TX
END:VEVENT
BEGIN:VEVENT
DTSTART;TZID=UTC:20260423T190130
DTEND;TZID=UTC:20260423T190130
DTSTAMP:20260423T190130
CREATED:20240813T003437Z
LAST-MODIFIED:20240813T003437Z
UID:227500-0-0@htusbt.net
SUMMARY:26482
DESCRIPTION:
URL:https://htusbt.net/event/26482/
LOCATION:TX
END:VEVENT
BEGIN:VEVENT
DTSTART;TZID=UTC:20260423T190130
DTEND;TZID=UTC:20260423T190130
DTSTAMP:20260423T190130
CREATED:20240813T003437Z
LAST-MODIFIED:20240813T003437Z
UID:227501-0-0@htusbt.net
SUMMARY:26488
DESCRIPTION:
URL:https://htusbt.net/event/26488/
LOCATION:TX
END:VEVENT
BEGIN:VEVENT
DTSTART;TZID=UTC:20260423T190130
DTEND;TZID=UTC:20260423T190130
DTSTAMP:20260423T190130
CREATED:20240813T003437Z
LAST-MODIFIED:20240813T003437Z
UID:227502-0-0@htusbt.net
SUMMARY:26496
DESCRIPTION:
URL:https://htusbt.net/event/26496/
LOCATION:TX
END:VEVENT
BEGIN:VEVENT
DTSTART;TZID=UTC:20260423T190130
DTEND;TZID=UTC:20260423T190130
DTSTAMP:20260423T190130
CREATED:20240813T003423Z
LAST-MODIFIED:20240813T003423Z
UID:227498-0-0@htusbt.net
SUMMARY:26183
DESCRIPTION:
URL:https://htusbt.net/event/26183/
LOCATION:TX
END:VEVENT
BEGIN:VEVENT
DTSTART;TZID=UTC:20260423T190130
DTEND;TZID=UTC:20260423T190130
DTSTAMP:20260423T190130
CREATED:20240813T003423Z
LAST-MODIFIED:20240813T003423Z
UID:227499-0-0@htusbt.net
SUMMARY:26189
DESCRIPTION:
URL:https://htusbt.net/event/26189/
LOCATION:TX
END:VEVENT
BEGIN:VEVENT
DTSTART;TZID=UTC:20260423T190130
DTEND;TZID=UTC:20260423T190130
DTSTAMP:20260423T190130
CREATED:20240813T003422Z
LAST-MODIFIED:20240813T003422Z
UID:227495-0-0@htusbt.net
SUMMARY:25504
DESCRIPTION:
URL:https://htusbt.net/event/25504/
LOCATION:TX
END:VEVENT
BEGIN:VEVENT
DTSTART;TZID=UTC:20260423T190130
DTEND;TZID=UTC:20260423T190130
DTSTAMP:20260423T190130
CREATED:20240813T003422Z
LAST-MODIFIED:20240813T003422Z
UID:227496-0-0@htusbt.net
SUMMARY:25526
DESCRIPTION:
URL:https://htusbt.net/event/25526/
LOCATION:TX
END:VEVENT
BEGIN:VEVENT
DTSTART;TZID=UTC:20260423T190130
DTEND;TZID=UTC:20260423T190130
DTSTAMP:20260423T190130
CREATED:20240813T003422Z
LAST-MODIFIED:20240813T003422Z
UID:227497-0-0@htusbt.net
SUMMARY:25533
DESCRIPTION:
URL:https://htusbt.net/event/25533/
LOCATION:TX
END:VEVENT
BEGIN:VEVENT
DTSTART;TZID=UTC:20260423T190130
DTEND;TZID=UTC:20260423T190130
DTSTAMP:20260423T190130
CREATED:20240813T003418Z
LAST-MODIFIED:20240813T003418Z
UID:227493-0-0@htusbt.net
SUMMARY:23177
DESCRIPTION:
URL:https://htusbt.net/event/23177/
LOCATION:TX
END:VEVENT
BEGIN:VEVENT
DTSTART;TZID=UTC:20260423T190130
DTEND;TZID=UTC:20260423T190130
DTSTAMP:20260423T190130
CREATED:20240813T003418Z
LAST-MODIFIED:20240813T003418Z
UID:227494-0-0@htusbt.net
SUMMARY:23214
DESCRIPTION:
URL:https://htusbt.net/event/23214/
LOCATION:TX
END:VEVENT
END:VCALENDAR