BEGIN:VCALENDAR
VERSION:2.0
PRODID:-//SBT - ECPv6.15.11//NONSGML v1.0//EN
CALSCALE:GREGORIAN
METHOD:PUBLISH
X-ORIGINAL-URL:https://htusbt.net
X-WR-CALDESC:Events for SBT
REFRESH-INTERVAL;VALUE=DURATION:PT1H
X-Robots-Tag:noindex
X-PUBLISHED-TTL:PT1H
BEGIN:VTIMEZONE
TZID:UTC
BEGIN:STANDARD
TZOFFSETFROM:+0000
TZOFFSETTO:+0000
TZNAME:UTC
DTSTART:20200101T000000
END:STANDARD
END:VTIMEZONE
BEGIN:VTIMEZONE
TZID:America/Indiana/Tell_City
BEGIN:DAYLIGHT
TZOFFSETFROM:-0600
TZOFFSETTO:-0500
TZNAME:CDT
DTSTART:20210314T080000
END:DAYLIGHT
BEGIN:STANDARD
TZOFFSETFROM:-0500
TZOFFSETTO:-0600
TZNAME:CST
DTSTART:20211107T070000
END:STANDARD
BEGIN:DAYLIGHT
TZOFFSETFROM:-0600
TZOFFSETTO:-0500
TZNAME:CDT
DTSTART:20220313T080000
END:DAYLIGHT
BEGIN:STANDARD
TZOFFSETFROM:-0500
TZOFFSETTO:-0600
TZNAME:CST
DTSTART:20221106T070000
END:STANDARD
BEGIN:DAYLIGHT
TZOFFSETFROM:-0600
TZOFFSETTO:-0500
TZNAME:CDT
DTSTART:20230312T080000
END:DAYLIGHT
BEGIN:STANDARD
TZOFFSETFROM:-0500
TZOFFSETTO:-0600
TZNAME:CST
DTSTART:20231105T070000
END:STANDARD
END:VTIMEZONE
BEGIN:VEVENT
DTSTART;TZID=UTC:20260411T100000
DTEND;TZID=UTC:20260411T143000
DTSTAMP:20260423T174032
CREATED:20251028T163951Z
LAST-MODIFIED:20260228T000752Z
UID:227934-1775901600-1775917800@htusbt.net
SUMMARY:5th Annual Financial Wellness Symposium
DESCRIPTION:Get ready to invest in yourself! \nHuston-Tillotson University’s School of Business and Technology is thrilled to announce our 5th annual Financial Wellness Symposium on Saturday\, April 11th! \nThe event kicks off at 10:00a CST with a warm breakfast and an essential presentation on the current state of the economy. The day is packed with high-value content\, including morning breakout sessions led by industry professionals\, an afternoon lunch buffet featuring a presentation on entrepreneurship\, and closing sessions discussing various vital financial topics. \nThis symposium is open to the entire Austin public as well as all HT students\, faculty\, and staff. \nClick here to register!
URL:https://htusbt.net/event/5th-annual-financial-wellness-symposium/
LOCATION:AL Auditorium\, 900 Chicon Street\, Austin\, TX\, 78702\, United States
CATEGORIES:Branding,Business,Computer Science,Financial Literacy,Marketing
ATTACH;FMTTYPE=image/png:https://htusbt.net/wp-content/uploads/2025/10/2026-FWS-Save-the-Date-5.png
ORGANIZER;CN="School of Business and Technology (SBT)":MAILTO:sbt@htu.edu
END:VEVENT
BEGIN:VEVENT
DTSTART;TZID=UTC:20250405T100000
DTEND;TZID=UTC:20250405T143000
DTSTAMP:20260423T174032
CREATED:20240130T162532Z
LAST-MODIFIED:20241216T200459Z
UID:26488-1743847200-1743863400@htusbt.net
SUMMARY:Financial Wellness Syposium
DESCRIPTION:Huston-Tillotson University’s School of Business and Technology is hosting our 4th annual Financial Wellness Symposium on Saturday\, April 5th! \nThis event is open to the Austin public as well as all HT students\, faculty\, and staff. \nWe will kick off at 10:00a CST with a warm breakfast and a presentation on the current state of the economy.  This will be followed by our morning breakout sessions led by industry professionals\, an afternoon lunch buffet and presentation on entrepreneurship\, and the day will wrap with afternoon sessions discussing various topics.  Make sure to stick around till the end to win door prizes! \nClick here to register and you will receive a calendar reminder for the event.
URL:https://htusbt.net/event/financial-wellness-syposium/
LOCATION:AL Auditorium\, 900 Chicon Street\, Austin\, TX\, 78702\, United States
CATEGORIES:Financial Literacy
ATTACH;FMTTYPE=image/png:https://htusbt.net/wp-content/uploads/2024/12/FWS-2025_website-flyer.png
ORGANIZER;CN="School of Business and Technology (SBT)":MAILTO:sbt@htu.edu
END:VEVENT
BEGIN:VEVENT
DTSTART;TZID=UTC:20250206T090000
DTEND;TZID=UTC:20250206T103000
DTSTAMP:20260423T174032
CREATED:20240814T204359Z
LAST-MODIFIED:20250121T223005Z
UID:227562-1738832400-1738837800@htusbt.net
SUMMARY:FDIC HBCU Webinar
DESCRIPTION:  \nOur community is invited to attend the first-of-its-kind\, FDIC Community Development through Historically Black Colleges and Universities (HBCUs) webinar. Learn about the partnership between The School of Business and Technology and Keystone Bank from Dean Rohan Thompson\, Ph.D. \nClick here to register for the event.
URL:https://htusbt.net/event/sbt-deep-dive-session-2-college-money-moves/
LOCATION:Zoom Panel Discussion
CATEGORIES:Business,Computer Science,Financial Literacy
ATTACH;FMTTYPE=image/png:https://htusbt.net/wp-content/uploads/2025/01/FDIC-Webinar-Flyer.png
ORGANIZER;CN="School of Business and Technology (SBT)":MAILTO:sbt@htu.edu
END:VEVENT
BEGIN:VEVENT
DTSTART;TZID=UTC:20241029T110000
DTEND;TZID=UTC:20241029T121500
DTSTAMP:20260423T174032
CREATED:20240827T183352Z
LAST-MODIFIED:20240906T215359Z
UID:227654-1730199600-1730204100@htusbt.net
SUMMARY:SBT Deep Dive Session #2: Real Estate
DESCRIPTION:Join us for our second deep dive conversation about the many facets of the real estate industry. Our expert panel\, featuring seasoned professionals\, will provide valuable insights and actionable advice. Whether you’re interested in residential/commercial\, private equity or venture capital\, this conversation promises to deliver a wealth of knowledge. Be sure to bring your questions and curiosity as we delve into topics like sustainable development\, market forecasting\, and investment strategies. Let’s navigate the complexities of real estate together and uncover the opportunities that await!
URL:https://htusbt.net/event/sbt-deep-dive-session-2-real-estate/
LOCATION:AL Auditorium\, 900 Chicon Street\, Austin\, TX\, 78702\, United States
CATEGORIES:Branding,Business,Computer Science,Financial Literacy,Marketing
ATTACH;FMTTYPE=image/png:https://htusbt.net/wp-content/uploads/2024/09/sbt-dd2.png
ORGANIZER;CN="School of Business and Technology (SBT)":MAILTO:sbt@htu.edu
END:VEVENT
BEGIN:VEVENT
DTSTART;TZID=UTC:20241015T110000
DTEND;TZID=UTC:20241015T123000
DTSTAMP:20260423T174032
CREATED:20240813T004148Z
LAST-MODIFIED:20240906T215426Z
UID:227509-1728990000-1728995400@htusbt.net
SUMMARY:SBT Deep Dive Session #1: Entrepreneurship
DESCRIPTION:  \n\nThe SBT has collaborated with Rose Smith from Black Women in Business and Theodore Pearson\, Assistant Vice President and Branch Manager of Sunflower Bank\, to present our inaugural Deep Dive Session focusing on the legal and business aspects of entrepreneurship. The event will offer insight into the legalities and financial literacy of small business\, and include a panel discussion featuring experienced entrepreneurs. Attendees will also have the chance to network with local vendors and discover their entrepreneurial journeys.  \nWe invite our entire HT community to join us at this insightful and exciting event!
URL:https://htusbt.net/event/sbt-deep-dive-session-1-entrepreneurship/
LOCATION:AL Auditorium\, 900 Chicon Street\, Austin\, TX\, 78702\, United States
CATEGORIES:Business,Computer Science,Financial Literacy
ATTACH;FMTTYPE=image/png:https://htusbt.net/wp-content/uploads/2024/09/sbt-dd1.png
END:VEVENT
BEGIN:VEVENT
DTSTART;VALUE=DATE:20231031
DTEND;VALUE=DATE:20231103
DTSTAMP:20260423T174032
CREATED:20230905T213257Z
LAST-MODIFIED:20230905T213257Z
UID:26189-1698710400-1698969599@htusbt.net
SUMMARY:SBT Fall 2023 Professional Development Week
DESCRIPTION:All Huston-Tillotson University students are invited to attend Professional Development Week hosted by The School of Business and Technology.  We will kick-off week with financial wellness conversations by professionals from PNC\, Bank of America\, and Capital One.  The next day will continue with a Dream Big panel discussion with professionals from ServiceNow and wrap with a party\, DJ\, and treats.  That Thursday\, the week will wrap with a Networking Mixer where our partners come meet our student and provide them with an opportunity to connect and learn about internships. \nPolish up and come out!
URL:https://htusbt.net/event/sbt-fall-2023-professional-development-week/
LOCATION:TX
CATEGORIES:Business,Computer Science,Financial Literacy
ATTACH;FMTTYPE=image/png:https://htusbt.net/wp-content/uploads/2023/09/FA23-SBT-Prof-Dev.png
ORGANIZER;CN="School of Business and Technology (SBT)":MAILTO:sbt@htu.edu
END:VEVENT
BEGIN:VEVENT
DTSTART;TZID=UTC:20230401T093000
DTEND;TZID=UTC:20230401T143000
DTSTAMP:20260423T174032
CREATED:20210322T184534Z
LAST-MODIFIED:20230320T201758Z
UID:23142-1680341400-1680359400@htusbt.net
SUMMARY:2023 Financial Wellness Symposium
DESCRIPTION:Huston-Tillotson University’s School of Business and Technology is hosting our 2nd annual Financial Wellness Symposium on Saturday\, April\, 1st! \nThis event is open to the Austin public as well as all HT students\, faculty\, and staff. \nWe will kick off at 9:30a CST with a warm breakfast and a presentation on the current state of the economy by Texas Capital Bank CIO\, Steve Orr. We will be discussing various topics during the breakout sessions in the morning and afternoon.  Make sure you stick around till the end to win prizes! \nClick here to register and you will receive a calendar reminder for the event.
URL:https://htusbt.net/event/financial-wellness-symposium/
LOCATION:AL Auditorium\, 900 Chicon Street\, Austin\, TX\, 78702\, United States
CATEGORIES:Business,Computer Science,Financial Literacy
ATTACH;FMTTYPE=image/png:https://htusbt.net/wp-content/uploads/2021/03/events-open-houses-1.png
ORGANIZER;CN="School of Business and Technology (SBT)":MAILTO:sbt@htu.edu
END:VEVENT
BEGIN:VEVENT
DTSTART;TZID=America/Indiana/Tell_City:20220430T090000
DTEND;TZID=America/Indiana/Tell_City:20220430T160000
DTSTAMP:20260423T174032
CREATED:20210206T155309Z
LAST-MODIFIED:20220906T162533Z
UID:22740-1651309200-1651334400@htusbt.net
SUMMARY:Financial Wellness & Prosperity Seminar
DESCRIPTION:Join the School of Business and Technology for a day of Financial Wellness and Prosperity!  You will learn the basics of investing\, building personal wealth\, homebuying tips and much more.  Breakfast\, lunch\, and snacks will be provided.  Make sure to stick around for the gift card raffle at the end of the event! \nThis is event is open to all HT students the entire public of the greater Austin area.  \nClick here to register!
URL:https://htusbt.net/event/daily-marketing-building-a-brand-everyday-everywhere-by-everyone/
LOCATION:AL Auditorium\, 900 Chicon Street\, Austin\, TX\, 78702\, United States
CATEGORIES:Business,Financial Literacy,Past Events
ATTACH;FMTTYPE=image/png:https://htusbt.net/wp-content/uploads/2021/02/Flyer-Registration-1.png
ORGANIZER;CN="School of Business and Technology (SBT)":MAILTO:sbt@htu.edu
END:VEVENT
BEGIN:VEVENT
DTSTART;TZID=UTC:20210427T160000
DTEND;TZID=UTC:20210427T170000
DTSTAMP:20260423T174032
CREATED:20210330T183503Z
LAST-MODIFIED:20210428T192119Z
UID:23214-1619539200-1619542800@htusbt.net
SUMMARY:Financial Literacy Workshops
DESCRIPTION:Join us for Financial Literacy Month! We will host four different workshops: Understanding Credit Scores & Credit Reports\, Personal Budgeting\, Investing 101\, and Careers in Commercial Banking. Hosted by the We Care: Financial Literacy and Student Persistence Center in the School of Business and Technology. \nClick here to register and you will receive a Zoom link for the event.
URL:https://htusbt.net/event/financial-literacy-workshops/
LOCATION:Zoom Panel Discussion
CATEGORIES:Business,Financial Literacy,Past Events
ATTACH;FMTTYPE=image/png:https://htusbt.net/wp-content/uploads/2021/03/Dark-Blue-with-Popcorn-Graphic-Movie-Night-Flyer-5.png
ORGANIZER;CN="School of Business and Technology (SBT)":MAILTO:sbt@htu.edu
END:VEVENT
END:VCALENDAR