BEGIN:VCALENDAR
VERSION:2.0
PRODID:-//SBT - ECPv6.15.11//NONSGML v1.0//EN
CALSCALE:GREGORIAN
METHOD:PUBLISH
X-WR-CALNAME:SBT
X-ORIGINAL-URL:https://htusbt.net
X-WR-CALDESC:Events for SBT
REFRESH-INTERVAL;VALUE=DURATION:PT1H
X-Robots-Tag:noindex
X-PUBLISHED-TTL:PT1H
BEGIN:VTIMEZONE
TZID:UTC
BEGIN:STANDARD
TZOFFSETFROM:+0000
TZOFFSETTO:+0000
TZNAME:UTC
DTSTART:20230101T000000
END:STANDARD
END:VTIMEZONE
BEGIN:VEVENT
DTSTART;TZID=UTC:20240910T080000
DTEND;TZID=UTC:20240912T170000
DTSTAMP:20260424T160955
CREATED:20240813T003854Z
LAST-MODIFIED:20240903T182717Z
UID:227506-1725955200-1726160400@htusbt.net
SUMMARY:SBT Professional Development Week
DESCRIPTION:Every fall\, the School of Business and Technology organizes a series of professional development activities. This semester\, we aim to invite the entire Huston-Tillotson University community to our initial two events: a Resume & LinkedIn Panel Discussion\, and a Live Mock Interview with Complimentary Headshots.
URL:https://htusbt.net/event/sbt-professional-development-week/
LOCATION:AL Auditorium\, 900 Chicon Street\, Austin\, TX\, 78702\, United States
CATEGORIES:Business,Computer Science
ATTACH;FMTTYPE=image/png:https://htusbt.net/wp-content/uploads/2024/08/2024-SBT-Professional-Development-Flyer-Instagram-Post-1.png
ORGANIZER;CN="School of Business and Technology (SBT)":MAILTO:sbt@htu.edu
END:VEVENT
END:VCALENDAR