BEGIN:VCALENDAR
VERSION:2.0
PRODID:-//SBT - ECPv6.15.11//NONSGML v1.0//EN
CALSCALE:GREGORIAN
METHOD:PUBLISH
X-WR-CALNAME:SBT
X-ORIGINAL-URL:https://htusbt.net
X-WR-CALDESC:Events for SBT
REFRESH-INTERVAL;VALUE=DURATION:PT1H
X-Robots-Tag:noindex
X-PUBLISHED-TTL:PT1H
BEGIN:VTIMEZONE
TZID:UTC
BEGIN:STANDARD
TZOFFSETFROM:+0000
TZOFFSETTO:+0000
TZNAME:UTC
DTSTART:20220101T000000
END:STANDARD
END:VTIMEZONE
BEGIN:VEVENT
DTSTART;TZID=UTC:20230406T180000
DTEND;TZID=UTC:20230406T184500
DTSTAMP:20260425T212733
CREATED:20230110T234815Z
LAST-MODIFIED:20230905T171758Z
UID:25533-1680804000-1680806700@htusbt.net
SUMMARY:MBA Info Sessions
DESCRIPTION:Are you looking to get that promotion or further expand on your education? Join us on the first Thursday of every month for a virtual 45-minute informational session on our Master’s of Business Administration program\, launched in 2019. \nHuston-Tillotson University’s MBA is a12-course\, 36-credit hour hybrid program designed for working individuals in Austin and the surrounding areas. It offers a blended learning format of online and on-campus courses. \nOne unique feature of HT’s MBA program is the mandatory global trip. Global trips foster education through formal and informal learning\, including pre-trip meetings\, research\, and discussions before\, during\, and after the trip. By experiencing cultural differences\, the students learn how culture influences business decisions. \n 
URL:https://htusbt.net/event/mba-info-sessions/
LOCATION:Zoom Panel Discussion
CATEGORIES:Business,Past Events
ATTACH;FMTTYPE=image/png:https://htusbt.net/wp-content/uploads/2023/01/MBA-Info-Session-Email-Campaign-2.png
ORGANIZER;CN="School of Business and Technology (SBT)":MAILTO:sbt@htu.edu
END:VEVENT
END:VCALENDAR